BEGIN:VCALENDAR
VERSION:2.0
METHOD:PUBLISH
PRODID:-//Accessible Web Design//My Calendar//http://www.joedolson.com//v//EN';
BEGIN:VEVENT
UID:6-5
LOCATION:Carlisle Village Park 1840 Suncrest Dr  Carlisle  PA 17013
SUMMARY:Back to school 2023
DTSTAMP:20230819T153000
ORGANIZER;CN=admin:MAILTO:t8nfwetyjv9q@p3plzcpnl497954.prod.phx3.secureserver.net
DTSTART:20230819T153000
DTEND:20230819T180000
CATEGORIES:General
URL;VALUE=URI:https://www.libfho.org/mc-events/back-to-school-2023/?mc_id=6
DESCRIPTION;ENCODING=QUOTED-PRINTABLE:
END:VEVENT
END:VCALENDAR